BEGIN:VCALENDAR
VERSION:2.0
PRODID:icalendar-ruby
CALSCALE:GREGORIAN
METHOD:PUBLISH
BEGIN:VEVENT
DTSTAMP:20260423T215905Z
UID:374-2164184@cornerstoneschool.ca
DTSTART;VALUE=DATE:20261021
DTEND;VALUE=DATE:20261021
CLASS:PUBLIC
CREATED:20260423T125743
DESCRIPTION:Wash Wednesday (non-uniform day)
LAST-MODIFIED:20260423T125743
LOCATION:
SUMMARY:Wash Wednesday (non-uniform day)
URL;VALUE=URI:https://cornerstoneschool.ca/events/wash-wednesday-non-unifor
 m-day/2026-10-21
END:VEVENT
END:VCALENDAR
