BEGIN:VCALENDAR
VERSION:2.0
PRODID:icalendar-ruby
CALSCALE:GREGORIAN
METHOD:PUBLISH
BEGIN:VEVENT
DTSTAMP:20260424T001055Z
UID:374-2164715@cornerstoneschool.ca
DTSTART;VALUE=DATE:20261104
DTEND;VALUE=DATE:20261104
CLASS:PUBLIC
CREATED:20260423T155150
DESCRIPTION:Wash Wednesday (non-uniform day)
LAST-MODIFIED:20260423T155150
LOCATION:
SUMMARY:Wash Wednesday (non-uniform day)
URL;VALUE=URI:https://cornerstoneschool.ca/events/wash-wednesday-non-unifor
 m-day/2026-11-04
END:VEVENT
END:VCALENDAR
